BEGIN:VCALENDAR
VERSION:2.0
PRODID:-//Tukios.com/
BEGIN:VEVENT
UID:e4006e72-aebd-43da-8931-9c9f7dd6e25a@www.davismemorialpark.com
DTSTAMP:20260424T194245Z
DTSTART:20260502T163000Z
DTEND:20260502T180000Z
SUMMARY:Funeral Service
DESCRIPTION:
URL:https://www.davismemorialpark.com/obituaries/james-brooks
LOCATION: 6200 S Eastern Ave  Las Vegas NV 89119
GEO:36.0784043;-115.1180665
END:VEVENT
END:VCALENDAR