BEGIN:VCALENDAR
VERSION:2.0
PRODID:-//Tukios.com/
BEGIN:VEVENT
UID:65dbc1c5-0b30-4895-8427-5d7ce06e361c@www.davismemorialpark.com
DTSTAMP:20260424T194030Z
DTSTART:20260502T180000Z
DTEND:20260502T190000Z
SUMMARY:Burial
DESCRIPTION:
URL:https://www.davismemorialpark.com/obituaries/james-brooks
LOCATION: 6200 S Eastern Ave  Las Vegas NV 89119
GEO:36.0784043;-115.1180665
END:VEVENT
END:VCALENDAR