BEGIN:VCALENDAR
VERSION:2.0
PRODID:-//Tukios.com/
BEGIN:VEVENT
UID:dfed1eaf-b311-4315-a908-fdaee912b9d2@www.davismemorialpark.com
DTSTAMP:20260421T192937Z
DTSTART:20260503T200000Z
DTEND:20260503T210000Z
SUMMARY:Viewing
DESCRIPTION:
URL:https://www.davismemorialpark.com/obituaries/jose-gonzalez-2026
LOCATION: 6200 S Eastern Ave  Las Vegas NV 89119
GEO:36.0784043;-115.1180665
END:VEVENT
END:VCALENDAR