BEGIN:VCALENDAR
VERSION:2.0
PRODID:-//Tukios.com/
BEGIN:VEVENT
UID:f3885682-e75f-4a3d-a849-e7ed829a6b6a@www.davismemorialpark.com
DTSTAMP:20260421T192627Z
DTSTART:20260503T210000Z
DTEND:20260503T220000Z
SUMMARY:Funeral Service
DESCRIPTION:
URL:https://www.davismemorialpark.com/obituaries/jose-gonzalez-2026
LOCATION: 6200 S Eastern Ave  Las Vegas NV 89119
GEO:36.0784043;-115.1180665
END:VEVENT
END:VCALENDAR