BEGIN:VCALENDAR
VERSION:2.0
PRODID:-//Tukios.com/
BEGIN:VEVENT
UID:c3394f30-f6f0-4957-8acf-45a7d9b6a800@www.davismemorialpark.com
DTSTAMP:20260421T193003Z
DTSTART:20260503T220000Z
DTEND:20260503T230000Z
SUMMARY:Burial
DESCRIPTION:
URL:https://www.davismemorialpark.com/obituaries/jose-gonzalez-2026
LOCATION: 6200 S Eastern Ave  Las Vegas NV 89119
GEO:36.0784043;-115.1180665
END:VEVENT
END:VCALENDAR