BEGIN:VCALENDAR
VERSION:2.0
PRODID:-//Tukios.com/
BEGIN:VEVENT
UID:c7fef65f-31b4-41a5-8da9-779cb03f17b2@www.davismemorialpark.com
DTSTAMP:20260423T003435Z
DTSTART:20260427T200000Z
DTEND:20260427T220000Z
SUMMARY:Celebration of Life
DESCRIPTION:
URL:https://www.davismemorialpark.com/obituaries/oscar-jefferson
LOCATION: 6200 S Eastern Ave  Las Vegas NV 89119
GEO:36.0784043;-115.1180665
END:VEVENT
END:VCALENDAR