BEGIN:VCALENDAR
VERSION:2.0
PRODID:-//Tukios.com/
BEGIN:VEVENT
UID:3796f546-294d-4a5b-aa3b-3a582b07500f@www.davismemorialpark.com
DTSTAMP:20260424T203402Z
DTSTART:20260522T180000Z
DTEND:20260522T190000Z
SUMMARY:Memorial Service
DESCRIPTION:
URL:https://www.davismemorialpark.com/obituaries/rosalydia-ramos
LOCATION: 6200 S Eastern Ave  Las Vegas NV 89119
GEO:36.0784043;-115.1180665
END:VEVENT
END:VCALENDAR